BEGIN:VCALENDAR
VERSION:2.0
PRODID:-//Atletiek Vereniging Twenterand - ECPv6.2.8.1//NONSGML v1.0//EN
CALSCALE:GREGORIAN
METHOD:PUBLISH
X-ORIGINAL-URL:https://av-twenterand.nl
X-WR-CALDESC:Evenementen voor Atletiek Vereniging Twenterand
REFRESH-INTERVAL;VALUE=DURATION:PT1H
X-Robots-Tag:noindex
X-PUBLISHED-TTL:PT1H
BEGIN:VTIMEZONE
TZID:Europe/Amsterdam
BEGIN:DAYLIGHT
TZOFFSETFROM:+0100
TZOFFSETTO:+0200
TZNAME:CEST
DTSTART:20180325T010000
END:DAYLIGHT
BEGIN:STANDARD
TZOFFSETFROM:+0200
TZOFFSETTO:+0100
TZNAME:CET
DTSTART:20181028T010000
END:STANDARD
END:VTIMEZONE
BEGIN:VEVENT
DTSTART;TZID=Europe/Amsterdam:20180113T093000
DTEND;TZID=Europe/Amsterdam:20180113T110000
DTSTAMP:20260422T174804
CREATED:20171229T142534Z
LAST-MODIFIED:20171229T142615Z
UID:1825-1515835800-1515841200@av-twenterand.nl
SUMMARY:Training (Jan) in Hellendoorn
DESCRIPTION:Op zaterdag 13 januari 2018 gaat Jan trainen op locatie in Hellendoorn.   \nVerzamelen om 9.15 uur bij ZorgSaam Lopers Company\, Koemaste 2C in Hellendoorn. Start om 9.30 uur.\nNa de training is er koffie/ thee bij ZorgSaam Lopers Company.
URL:https://av-twenterand.nl/event/training-jan-in-hellendoorn/
LOCATION:ZorgSaam Lopers Company\, Koemaste 2C\, Hellendoorn\, Overijssel\, 7447 AV\, Nederland
CATEGORIES:Training
ORGANIZER;CN="Atletiekvereniging Twenterand":MAILTO:info@av-twenterand.nl
END:VEVENT
BEGIN:VEVENT
DTSTART;TZID=Europe/Amsterdam:20180127T093000
DTEND;TZID=Europe/Amsterdam:20180127T110000
DTSTAMP:20260422T174804
CREATED:20180120T185753Z
LAST-MODIFIED:20180120T190022Z
UID:1872-1517045400-1517050800@av-twenterand.nl
SUMMARY:Training op locatie Twickel (Henk)
DESCRIPTION:Zaterdag 27 januari a.s. traint Henk op locatie Twickel. Verzamelen om 9.00 uur bij Raab Kärcher in Vriezenveen. Of om 9.30 uur bij ’t Hoogspel\, Bornsestraat 1 in Delden. We lopen ca. 12-15 km in 1\,5 uur. Na afloop kunnen we koffie drinken. Mis het niet!
URL:https://av-twenterand.nl/event/training-op-locatie-twickel-henk/
LOCATION:Café-Restaurant ’t Hoogspel\, Bornsestraat 1\, Ambt-Delden\, Overijssel\, 7495 VL
CATEGORIES:Training
ATTACH;FMTTYPE=image/jpeg:https://av-twenterand.nl/wp-content/uploads/2018/01/Hoogspel-Twickel.jpg
ORGANIZER;CN="Atletiekvereniging Twenterand":MAILTO:info@av-twenterand.nl
END:VEVENT
END:VCALENDAR