BEGIN:VCALENDAR
VERSION:2.0
PRODID:-//Atletiek Vereniging Twenterand - ECPv6.2.8.1//NONSGML v1.0//EN
CALSCALE:GREGORIAN
METHOD:PUBLISH
X-ORIGINAL-URL:https://av-twenterand.nl
X-WR-CALDESC:Evenementen voor Atletiek Vereniging Twenterand
REFRESH-INTERVAL;VALUE=DURATION:PT1H
X-Robots-Tag:noindex
X-PUBLISHED-TTL:PT1H
BEGIN:VTIMEZONE
TZID:Europe/Amsterdam
BEGIN:DAYLIGHT
TZOFFSETFROM:+0100
TZOFFSETTO:+0200
TZNAME:CEST
DTSTART:20180325T010000
END:DAYLIGHT
BEGIN:STANDARD
TZOFFSETFROM:+0200
TZOFFSETTO:+0100
TZNAME:CET
DTSTART:20181028T010000
END:STANDARD
END:VTIMEZONE
BEGIN:VEVENT
DTSTART;TZID=Europe/Amsterdam:20180929T090000
DTEND;TZID=Europe/Amsterdam:20180929T113000
DTSTAMP:20260422T053009
CREATED:20180915T140405Z
LAST-MODIFIED:20180915T140405Z
UID:2313-1538211600-1538220600@av-twenterand.nl
SUMMARY:Training op locatie - Diepe Hel
DESCRIPTION:Op zaterdag 29 september a.s. gaan we trainen op locatie in Nijverdal.\nWe verzamelen om 9.00 uur op de grote parkeerplaats bij Buitencentrum Sallandse Heuvelrug\, Grotestraat 281 in Nijverdal. Carpoolen kan vanaf Witzand\, Hammerweg 11 in Vriezenveen\, vertrek om 8.30 uur.
URL:https://av-twenterand.nl/event/training-op-locatie-diepe-hel/
LOCATION:Buitencentrum Sallandse Heuvelrug\, Grotestraat 281\, Nijverdal\, Overijssel\, 7441 GS\, Nederland
CATEGORIES:Training
ATTACH;FMTTYPE=image/jpeg:https://av-twenterand.nl/wp-content/uploads/2018/09/bezoekerscentrum-salland-overzicht-salland-1280x854.jpg
ORGANIZER;CN="Atletiekvereniging Twenterand":MAILTO:info@av-twenterand.nl
END:VEVENT
END:VCALENDAR