BEGIN:VCALENDAR
VERSION:2.0
PRODID:-//Atletiek Vereniging Twenterand - ECPv6.2.8.1//NONSGML v1.0//EN
CALSCALE:GREGORIAN
METHOD:PUBLISH
X-ORIGINAL-URL:https://av-twenterand.nl
X-WR-CALDESC:Evenementen voor Atletiek Vereniging Twenterand
REFRESH-INTERVAL;VALUE=DURATION:PT1H
X-Robots-Tag:noindex
X-PUBLISHED-TTL:PT1H
BEGIN:VTIMEZONE
TZID:Europe/Amsterdam
BEGIN:DAYLIGHT
TZOFFSETFROM:+0100
TZOFFSETTO:+0200
TZNAME:CEST
DTSTART:20190331T010000
END:DAYLIGHT
BEGIN:STANDARD
TZOFFSETFROM:+0200
TZOFFSETTO:+0100
TZNAME:CET
DTSTART:20191027T010000
END:STANDARD
END:VTIMEZONE
BEGIN:VEVENT
DTSTART;TZID=Europe/Amsterdam:20190504T103000
DTEND;TZID=Europe/Amsterdam:20190504T113000
DTSTAMP:20260421T183557
CREATED:20190217T154051Z
LAST-MODIFIED:20190417T191051Z
UID:2460-1556965800-1556969400@av-twenterand.nl
SUMMARY:Ontbijttraining
DESCRIPTION:
URL:https://av-twenterand.nl/event/ontbijttraining-2/
LOCATION:Overijssel
CATEGORIES:Training
END:VEVENT
END:VCALENDAR