BEGIN:VCALENDAR
VERSION:2.0
PRODID:-//Atletiek Vereniging Twenterand - ECPv6.2.8.1//NONSGML v1.0//EN
CALSCALE:GREGORIAN
METHOD:PUBLISH
X-ORIGINAL-URL:https://av-twenterand.nl
X-WR-CALDESC:Evenementen voor Atletiek Vereniging Twenterand
REFRESH-INTERVAL;VALUE=DURATION:PT1H
X-Robots-Tag:noindex
X-PUBLISHED-TTL:PT1H
BEGIN:VTIMEZONE
TZID:Europe/Amsterdam
BEGIN:DAYLIGHT
TZOFFSETFROM:+0100
TZOFFSETTO:+0200
TZNAME:CEST
DTSTART:20180325T010000
END:DAYLIGHT
BEGIN:STANDARD
TZOFFSETFROM:+0200
TZOFFSETTO:+0100
TZNAME:CET
DTSTART:20181028T010000
END:STANDARD
END:VTIMEZONE
BEGIN:VEVENT
DTSTART;TZID=Europe/Amsterdam:20180630T090000
DTEND;TZID=Europe/Amsterdam:20180630T103000
DTSTAMP:20260422T095906
CREATED:20180415T150330Z
LAST-MODIFIED:20180430T191816Z
UID:2061-1530349200-1530354600@av-twenterand.nl
SUMMARY:Training op locatie Sahara-Ommen (heel AVT)
DESCRIPTION:Op zaterdag 30 juni a.s. gaan we trainen op locatie in Ommen (i.v.m. Boulevard Outdoor op Het Lageveld). Dit keer gaan we naar de Sahara in Ommen. Voor degene die wil carpoolen\, verzamelen we om 8.30 uur bij RaabKarcher\, Oosteinde 36 in Vriezenveen. \nRoutebeschrijving:\nVANUIT VRIEZENVEEN (RAABKARCHER):\nN36 richting Hardenberg\, links afslaan bij het stoplicht richting Beerze (Beerzeweg).\nVolg de borden doorgaand verkeer. Na ruim 6 km\, net voorbij de flauwe bocht\, komen de Beerzeweg en de spoorlijn vlak bij elkaar. Bij de eerste spoorwegovergang links afslaan (Eerderveldweg). Over het spoor\, na 250 meter (houdt rechts!)\, ligt de parkeerplaats aan de linkerkant. Let op: de Eerderveldweg is na het passeren van deze parkeerplaats\, verboden voor autoverkeer! \nVANUIT WIERDEN \, DAARLE EN DEN HAM :\nVolg de N751 richting Den Ham\, dan via de rotonde\, richting Centrum. Eerste afslag rechts\, via de Esweg rij je de Vossenboerweg helemaal uit. Sla dan links af en rij de Nieuwe Hammerweg helemaal uit (over het spoor). Neem dan de afslag links en rij de Beerzeweg op\, richting Ommen. Na ca. 2 km\, net voorbij de flauwe bocht\, komen de Beerzeweg en de spoorlijn vlak bij elkaar. Bij de eerste spoorwegovergang dan links afslaan (Eerderveldweg). Over het spoor\, na 250 meter (houdt rechts!)\, ligt de parkeerplaats aan de linkerkant. Let op: de Eerderveldweg is na het passeren van deze parkeerplaats\, verboden voor autoverkeer! \nHET ADRES IS :\nEERDERVELDWEG 1 \, 7731 OMMEN\nRuimte voor ca. 50 auto’s op de parkeerplaats. Boswachterij\, zandverstuiving De Sahara\, Ommen.
URL:https://av-twenterand.nl/event/traiing-op-locatie-nader-te-bepalen/
LOCATION:Sahara\, Eerderveldweg 1\, Ommen\, Overijssels\, 7731\, Nederland
CATEGORIES:Training
ORGANIZER;CN="Atletiekvereniging Twenterand":MAILTO:info@av-twenterand.nl
END:VEVENT
END:VCALENDAR