BEGIN:VCALENDAR
VERSION:2.0
PRODID:-//Atletiek Vereniging Twenterand - ECPv6.2.8.1//NONSGML v1.0//EN
CALSCALE:GREGORIAN
METHOD:PUBLISH
X-WR-CALNAME:Atletiek Vereniging Twenterand
X-ORIGINAL-URL:https://av-twenterand.nl
X-WR-CALDESC:Evenementen voor Atletiek Vereniging Twenterand
REFRESH-INTERVAL;VALUE=DURATION:PT1H
X-Robots-Tag:noindex
X-PUBLISHED-TTL:PT1H
BEGIN:VTIMEZONE
TZID:Europe/Amsterdam
BEGIN:DAYLIGHT
TZOFFSETFROM:+0100
TZOFFSETTO:+0200
TZNAME:CEST
DTSTART:20180325T010000
END:DAYLIGHT
BEGIN:STANDARD
TZOFFSETFROM:+0200
TZOFFSETTO:+0100
TZNAME:CET
DTSTART:20181028T010000
END:STANDARD
BEGIN:DAYLIGHT
TZOFFSETFROM:+0100
TZOFFSETTO:+0200
TZNAME:CEST
DTSTART:20190331T010000
END:DAYLIGHT
BEGIN:STANDARD
TZOFFSETFROM:+0200
TZOFFSETTO:+0100
TZNAME:CET
DTSTART:20191027T010000
END:STANDARD
BEGIN:DAYLIGHT
TZOFFSETFROM:+0100
TZOFFSETTO:+0200
TZNAME:CEST
DTSTART:20200329T010000
END:DAYLIGHT
BEGIN:STANDARD
TZOFFSETFROM:+0200
TZOFFSETTO:+0100
TZNAME:CET
DTSTART:20201025T010000
END:STANDARD
BEGIN:DAYLIGHT
TZOFFSETFROM:+0100
TZOFFSETTO:+0200
TZNAME:CEST
DTSTART:20210328T010000
END:DAYLIGHT
BEGIN:STANDARD
TZOFFSETFROM:+0200
TZOFFSETTO:+0100
TZNAME:CET
DTSTART:20211031T010000
END:STANDARD
BEGIN:DAYLIGHT
TZOFFSETFROM:+0100
TZOFFSETTO:+0200
TZNAME:CEST
DTSTART:20220327T010000
END:DAYLIGHT
BEGIN:STANDARD
TZOFFSETFROM:+0200
TZOFFSETTO:+0100
TZNAME:CET
DTSTART:20221030T010000
END:STANDARD
BEGIN:DAYLIGHT
TZOFFSETFROM:+0100
TZOFFSETTO:+0200
TZNAME:CEST
DTSTART:20230326T010000
END:DAYLIGHT
BEGIN:STANDARD
TZOFFSETFROM:+0200
TZOFFSETTO:+0100
TZNAME:CET
DTSTART:20231029T010000
END:STANDARD
BEGIN:DAYLIGHT
TZOFFSETFROM:+0100
TZOFFSETTO:+0200
TZNAME:CEST
DTSTART:20240331T010000
END:DAYLIGHT
BEGIN:STANDARD
TZOFFSETFROM:+0200
TZOFFSETTO:+0100
TZNAME:CET
DTSTART:20241027T010000
END:STANDARD
END:VTIMEZONE
BEGIN:VEVENT
DTSTART;TZID=Europe/Amsterdam:20180929T090000
DTEND;TZID=Europe/Amsterdam:20180929T113000
DTSTAMP:20260423T002629
CREATED:20180915T140405Z
LAST-MODIFIED:20180915T140405Z
UID:2313-1538211600-1538220600@av-twenterand.nl
SUMMARY:Training op locatie - Diepe Hel
DESCRIPTION:Op zaterdag 29 september a.s. gaan we trainen op locatie in Nijverdal.\nWe verzamelen om 9.00 uur op de grote parkeerplaats bij Buitencentrum Sallandse Heuvelrug\, Grotestraat 281 in Nijverdal. Carpoolen kan vanaf Witzand\, Hammerweg 11 in Vriezenveen\, vertrek om 8.30 uur.
URL:https://av-twenterand.nl/event/training-op-locatie-diepe-hel/
LOCATION:Buitencentrum Sallandse Heuvelrug\, Grotestraat 281\, Nijverdal\, Overijssel\, 7441 GS\, Nederland
CATEGORIES:Training
ATTACH;FMTTYPE=image/jpeg:https://av-twenterand.nl/wp-content/uploads/2018/09/bezoekerscentrum-salland-overzicht-salland-1280x854.jpg
ORGANIZER;CN="Atletiekvereniging Twenterand":MAILTO:info@av-twenterand.nl
END:VEVENT
BEGIN:VEVENT
DTSTART;TZID=Europe/Amsterdam:20181112T200000
DTEND;TZID=Europe/Amsterdam:20181112T213000
DTSTAMP:20260423T002629
CREATED:20180921T202800Z
LAST-MODIFIED:20180921T203020Z
UID:2318-1542052800-1542058200@av-twenterand.nl
SUMMARY:Training in FBK Stadion
DESCRIPTION:Op maandag 12 november 2018 gaan we trainen in het FBK Stadion in Hengelo. We hebben de baan gehuurd van 20.00-21.30 uur. Ook kunnen we gebruik maken van de kleedkamers.
URL:https://av-twenterand.nl/event/training-in-fbk-stadion/
LOCATION:FBK Stadion\, Kuipersdijk 46\, Hengelo\, Overijssel\, Nederland
CATEGORIES:Training
ORGANIZER;CN="Atletiekvereniging Twenterand":MAILTO:info@av-twenterand.nl
END:VEVENT
BEGIN:VEVENT
DTSTART;TZID=Europe/Amsterdam:20190221T180000
DTEND;TZID=Europe/Amsterdam:20190221T193000
DTSTAMP:20260423T002629
CREATED:20181106T182848Z
LAST-MODIFIED:20190214T201556Z
UID:2345-1550772000-1550777400@av-twenterand.nl
SUMMARY:Training FBK Stadion (jeugd en volwassenen)
DESCRIPTION:Op donderdag 21 februari 2019 gaan we trainen in het FBK Stadion. We hebben de baan gehuurd van 18.00 tot 19.30 uur. Ook kunnen we gebruik maken van de kleedkamers. Deze training is zowel voor de jeugd als voor de volwassenen. \nLET OP: De training op woensdagavond 20 februari bij Amicitia vervalt!
URL:https://av-twenterand.nl/event/training-fbk-stadion-jeugd-en-volwassenen/
LOCATION:FBK Stadion\, Kuipersdijk 46\, Hengelo\, Overijssel\, Nederland
CATEGORIES:Training
ORGANIZER;CN="Atletiekvereniging Twenterand":MAILTO:info@av-twenterand.nl
END:VEVENT
BEGIN:VEVENT
DTSTART;TZID=Europe/Amsterdam:20190311T200000
DTEND;TZID=Europe/Amsterdam:20190311T213000
DTSTAMP:20260423T002629
CREATED:20181106T183057Z
LAST-MODIFIED:20190113T164519Z
UID:2348-1552334400-1552339800@av-twenterand.nl
SUMMARY:Training FBK Stadion
DESCRIPTION:Op maandag 11 maart 2019 gaan we trainen in het FBK Stadion. We hebben de baan gehuurd van 20.00 tot 21.30 uur. Ook kunnen we gebruik maken van de kleedkamers.
URL:https://av-twenterand.nl/event/training-fbk-stadion/
LOCATION:FBK Stadion\, Kuipersdijk 46\, Hengelo\, Overijssel\, Nederland
CATEGORIES:Training
ORGANIZER;CN="Atletiekvereniging Twenterand":MAILTO:info@av-twenterand.nl
END:VEVENT
BEGIN:VEVENT
DTSTART;TZID=Europe/Amsterdam:20190504T103000
DTEND;TZID=Europe/Amsterdam:20190504T113000
DTSTAMP:20260423T002629
CREATED:20190217T154051Z
LAST-MODIFIED:20190417T191051Z
UID:2460-1556965800-1556969400@av-twenterand.nl
SUMMARY:Ontbijttraining
DESCRIPTION:
URL:https://av-twenterand.nl/event/ontbijttraining-2/
LOCATION:Overijssel
CATEGORIES:Training
END:VEVENT
BEGIN:VEVENT
DTSTART;TZID=Europe/Amsterdam:20190629T090000
DTEND;TZID=Europe/Amsterdam:20190629T103000
DTSTAMP:20260423T002629
CREATED:20190217T154348Z
LAST-MODIFIED:20190616T133405Z
UID:2464-1561798800-1561804200@av-twenterand.nl
SUMMARY:Familietraining / afsluiting clinic
DESCRIPTION:Op zaterdag 29 juni is de familietraining/feestelijke afsluiting van de clinic. De familietraining is voor alle cliniclopers\, leden\, jeugdleden en hun familieleden\, vrienden en bekenden\, zodat ook zij eens kennis kunnen maken met de Atletiek Vereniging Twenterand. De mogelijkheid wordt geboden om mee te doen met een training en voor wie dat niet wil is er de mogelijkheid het parcours al wandelend te bekijken. Voor de kinderen is er een apart programma. Tevens is er op deze zaterdag de feestelijke afsluiting van de clinic met een heerlijke traktatie voor iedereen na de training. I.v.m. de catering willen we graag weten op hoeveel mensen we kunnen rekenen. Je kunt je OPGEVEN door een berichtje te sturen naar Marianne of Betsie.\nNet als voorgaande jaren is er HEEL AVT BAKT! Lijkt het je leuk om ook wat te bakken of voor te bereiden\, geef het dan door aan Marianne of Betsie.
URL:https://av-twenterand.nl/event/familietraining-afsluiting-clinic/
LOCATION:Overijssel
CATEGORIES:Training
END:VEVENT
BEGIN:VEVENT
DTSTART;TZID=Europe/Amsterdam:20200429T181500
DTEND;TZID=Europe/Amsterdam:20200429T204500
DTSTAMP:20260423T002629
CREATED:20190217T153945Z
LAST-MODIFIED:20200417T175125Z
UID:2458-1588184100-1588193100@av-twenterand.nl
SUMMARY:Verkennen Twenterandrun (afgelast)
DESCRIPTION:Ter voorbereiding op de Twenterandrun wordt met de clinicdeelnemers en leden het parcours verkend. We verzamelen op het Manitobaplein\, voor het gemeentehuis in Vriezenveen. Er is deze avond geen reguliere training op Sportpark Het Midden.\nJeugd: 18.15 – 19.15 uur\nVolwassenen: 19.15 – 20.45 uur
URL:https://av-twenterand.nl/event/verkennen-twenterandrun-2/
LOCATION:Overijssel
CATEGORIES:Training
END:VEVENT
BEGIN:VEVENT
DTSTART;TZID=Europe/Amsterdam:20200523T090000
DTEND;TZID=Europe/Amsterdam:20200523T103000
DTSTAMP:20260423T002629
CREATED:20180415T145813Z
LAST-MODIFIED:20200518T173641Z
UID:2057-1590224400-1590229800@av-twenterand.nl
SUMMARY:Training op locatie in Twickel-Delden (afgelast)
DESCRIPTION:Op zaterdag 23 mei a.s. gaan we trainen op locatie in Twickel-Delden. We verzamelen bij café-restaurant ’t Hoogspel\, Bornsestraat 1 in Delden. Voor degene die wil carpoolen\, verzamelen we om 8.30 uur bij RaabKarcher\, Oosteinde 36 in Vriezenveen.
URL:https://av-twenterand.nl/event/training-op-locatie-nader-te-bepalen/
LOCATION:Café-Restaurant ’t Hoogspel\, Bornsestraat 1\, Ambt-Delden\, Overijssel\, 7495 VL
CATEGORIES:Training
ORGANIZER;CN="Atletiekvereniging Twenterand":MAILTO:info@av-twenterand.nl
END:VEVENT
BEGIN:VEVENT
DTSTART;TZID=Europe/Amsterdam:20200615T181500
DTEND;TZID=Europe/Amsterdam:20200615T204500
DTSTAMP:20260423T002629
CREATED:20190217T154308Z
LAST-MODIFIED:20200417T175311Z
UID:2462-1592244900-1592253900@av-twenterand.nl
SUMMARY:Verkennen Wiezoloop (afgelast)
DESCRIPTION:Ter voorbereiding op de Wiezoloop wordt met de clinicdeelnemers en leden het parcours verkend. We verzamelen bij Rijssensestraat 36 (tegenover de fietsenwinkel). Er is op deze avond geen reguliere training op Sportpark Het midden.  De jeugdleden worden via Jaap nader geïnformeerd. \nJeugd: 18.15 – 19.15 uur\nVolwassen: 19.15 – 20.45 uur \nVoor vragen over het verkennen van de Wiezoloop kun je terecht bij Jaap. \n  \n 
URL:https://av-twenterand.nl/event/verkennen-wiezoloop-2/
LOCATION:Overijssel
CATEGORIES:Training
END:VEVENT
BEGIN:VEVENT
DTSTART;TZID=Europe/Amsterdam:20201017T090000
DTEND;TZID=Europe/Amsterdam:20201017T103000
DTSTAMP:20260423T002629
CREATED:20201011T125721Z
LAST-MODIFIED:20201015T185210Z
UID:2773-1602925200-1602930600@av-twenterand.nl
SUMMARY:Training op locatie De Lemelerberg (afgelast)
DESCRIPTION:Op zaterdag 17 oktober a.s. geven de trainers Theo en Henk training op locatie de Lemelerberg. We verzamelen om 9 uur bij Theehuis De Lemelerberg Kerkweg 32\, Lemele. \nIndien je wilt carpoolen\, houd je dan aan de Coronaregels die gelden voor samenrijden. \nJaap geeft deze ochtend wel training op het Het Lageveld. Wil je hem een bericht sturen als je bij hem wilt trainen?
URL:https://av-twenterand.nl/event/training-op-locatie-de-lemelerberg/
LOCATION:Overijssel
CATEGORIES:Training
END:VEVENT
BEGIN:VEVENT
DTSTART;VALUE=DATE:20211023
DTEND;VALUE=DATE:20211024
DTSTAMP:20260423T002629
CREATED:20210926T193330Z
LAST-MODIFIED:20210926T193330Z
UID:2820-1634947200-1635033599@av-twenterand.nl
SUMMARY:Muziektraining Jan Koning - A.V. Twenterand
DESCRIPTION:Een speciale training met muziek van onze eigen trainer: Jan Koning.
URL:https://av-twenterand.nl/event/muziektraining-jan-koning-a-v-twenterand/
LOCATION:Het Lageveld\, Vriezenveenseweg 57\, Wierden\, Overijssel\, 7641PE\, Nederland
CATEGORIES:Training
ORGANIZER;CN="Atletiekvereniging Twenterand":MAILTO:info@av-twenterand.nl
END:VEVENT
BEGIN:VEVENT
DTSTART;VALUE=DATE:20211113
DTEND;VALUE=DATE:20211114
DTSTAMP:20260423T002629
CREATED:20210926T194132Z
LAST-MODIFIED:20210926T194132Z
UID:2828-1636761600-1636847999@av-twenterand.nl
SUMMARY:Techniektraining Jan Koning - A.V. Twenterand
DESCRIPTION:Een speciale training op basis van techniek gegeven door onze eigen trainer: Jan Koning.
URL:https://av-twenterand.nl/event/techniektraining-jan-koning-a-v-twenterand/
LOCATION:Het Lageveld\, Vriezenveenseweg 57\, Wierden\, Overijssel\, 7641PE\, Nederland
CATEGORIES:Training
ORGANIZER;CN="Atletiekvereniging Twenterand":MAILTO:info@av-twenterand.nl
END:VEVENT
BEGIN:VEVENT
DTSTART;VALUE=DATE:20211127
DTEND;VALUE=DATE:20211128
DTSTAMP:20260423T002629
CREATED:20210926T194356Z
LAST-MODIFIED:20210926T194356Z
UID:2830-1637971200-1638057599@av-twenterand.nl
SUMMARY:Training externe locatie (beginnersgroep) - Beerze
DESCRIPTION:Een training speciaal ingericht voor beginners bij de Beerzerpoort in Beerze. Tevens zal er een reguliere training plaatsvinden op het Lageveld.
URL:https://av-twenterand.nl/event/training-externe-locatie-beginnersgroep-beerze/
LOCATION:Beerze\, Beerzerpoort\, Beerze\, Nederland
CATEGORIES:Training
ORGANIZER;CN="Atletiekvereniging Twenterand":MAILTO:info@av-twenterand.nl
END:VEVENT
BEGIN:VEVENT
DTSTART;VALUE=DATE:20211218
DTEND;VALUE=DATE:20211219
DTSTAMP:20260423T002629
CREATED:20210926T194846Z
LAST-MODIFIED:20210926T194846Z
UID:2833-1639785600-1639871999@av-twenterand.nl
SUMMARY:Training externe locatie (gemiddeld niveau) - Delden
DESCRIPTION:Een training speciaal ingericht voor lopers van een gemiddeld niveau bij kasteel Twickel in Delden. Tevens zal er een reguliere training plaatsvinden op het Lageveld.
URL:https://av-twenterand.nl/event/training-externe-locatie-gemiddeld-niveau-delden/
LOCATION:Delden\, Bornsestraat 1\, Delden\, 7495VL\, Nederland
CATEGORIES:Training
ORGANIZER;CN="Atletiekvereniging Twenterand":MAILTO:info@av-twenterand.nl
END:VEVENT
BEGIN:VEVENT
DTSTART;VALUE=DATE:20220129
DTEND;VALUE=DATE:20220130
DTSTAMP:20260423T002629
CREATED:20210926T195104Z
LAST-MODIFIED:20210926T195104Z
UID:2836-1643414400-1643500799@av-twenterand.nl
SUMMARY:Training externe locatie (lange afstand) - Holterberg
DESCRIPTION:Een training speciaal ingericht voor de lange afstandslopers bij de Holterberg. Tevens zal er een reguliere training plaatsvinden op het Lageveld.
URL:https://av-twenterand.nl/event/training-externe-locatie-lange-afstand-holterberg/
LOCATION:Holterberg\, Grotestraat 285\, Nijverdal\, 7441GS\, Nederland
CATEGORIES:Training
ORGANIZER;CN="Atletiekvereniging Twenterand":MAILTO:info@av-twenterand.nl
END:VEVENT
BEGIN:VEVENT
DTSTART;VALUE=DATE:20220625
DTEND;VALUE=DATE:20220626
DTSTAMP:20260423T002629
CREATED:20210926T195701Z
LAST-MODIFIED:20220116T192554Z
UID:2850-1656115200-1656201599@av-twenterand.nl
SUMMARY:Training externe locatie RWT (i.v.m. boulevard outdoor)
DESCRIPTION:
URL:https://av-twenterand.nl/event/training-externe-locatie-i-v-m-boulevard-outdoor/
LOCATION:Overijssel
CATEGORIES:Training
ORGANIZER;CN="Atletiekvereniging Twenterand":MAILTO:info@av-twenterand.nl
END:VEVENT
BEGIN:VEVENT
DTSTART;VALUE=DATE:20220709
DTEND;VALUE=DATE:20220710
DTSTAMP:20260423T002629
CREATED:20210926T195905Z
LAST-MODIFIED:20210926T195905Z
UID:2854-1657324800-1657411199@av-twenterand.nl
SUMMARY:Familietraining A.V. Twenterand
DESCRIPTION:
URL:https://av-twenterand.nl/event/familietraining-a-v-twenterand/
LOCATION:Het Lageveld\, Vriezenveenseweg 57\, Wierden\, Overijssel\, 7641PE\, Nederland
CATEGORIES:Training
ORGANIZER;CN="Atletiekvereniging Twenterand":MAILTO:info@av-twenterand.nl
END:VEVENT
BEGIN:VEVENT
DTSTART;TZID=Europe/Amsterdam:20240330T090000
DTEND;TZID=Europe/Amsterdam:20240330T103000
DTSTAMP:20260423T002629
CREATED:20240304T185350Z
LAST-MODIFIED:20240304T185350Z
UID:3065-1711789200-1711794600@av-twenterand.nl
SUMMARY:AVT Paastraining
DESCRIPTION:
URL:https://av-twenterand.nl/event/avt-paastraining/
LOCATION:Het Lageveld\, Vriezenveenseweg 57\, Wierden\, Overijssel\, 7641PE\, Nederland
CATEGORIES:Training
END:VEVENT
BEGIN:VEVENT
DTSTART;TZID=Europe/Amsterdam:20240427T090000
DTEND;TZID=Europe/Amsterdam:20240427T103000
DTSTAMP:20260423T002629
CREATED:20240304T185547Z
LAST-MODIFIED:20240304T185547Z
UID:3070-1714208400-1714213800@av-twenterand.nl
SUMMARY:AVT Koningsdag training
DESCRIPTION:
URL:https://av-twenterand.nl/event/avt-koningsdag-training/
LOCATION:Het Lageveld\, Vriezenveenseweg 57\, Wierden\, Overijssel\, 7641PE\, Nederland
CATEGORIES:Training
END:VEVENT
END:VCALENDAR