BEGIN:VCALENDAR
VERSION:2.0
PRODID:-//Atletiek Vereniging Twenterand - ECPv6.2.8.1//NONSGML v1.0//EN
CALSCALE:GREGORIAN
METHOD:PUBLISH
X-ORIGINAL-URL:https://av-twenterand.nl
X-WR-CALDESC:Evenementen voor Atletiek Vereniging Twenterand
REFRESH-INTERVAL;VALUE=DURATION:PT1H
X-Robots-Tag:noindex
X-PUBLISHED-TTL:PT1H
BEGIN:VTIMEZONE
TZID:Europe/Amsterdam
BEGIN:DAYLIGHT
TZOFFSETFROM:+0100
TZOFFSETTO:+0200
TZNAME:CEST
DTSTART:20240331T010000
END:DAYLIGHT
BEGIN:STANDARD
TZOFFSETFROM:+0200
TZOFFSETTO:+0100
TZNAME:CET
DTSTART:20241027T010000
END:STANDARD
END:VTIMEZONE
BEGIN:VEVENT
DTSTART;TZID=Europe/Amsterdam:20240309T130000
DTEND;TZID=Europe/Amsterdam:20240309T150000
DTSTAMP:20260426T041048
CREATED:20240304T185113Z
LAST-MODIFIED:20240304T185157Z
UID:3059-1709989200-1709996400@av-twenterand.nl
SUMMARY:Hessenheemcross
DESCRIPTION:
URL:https://av-twenterand.nl/event/hessenheemcross/
LOCATION:Markelo
CATEGORIES:Wedstrijd
END:VEVENT
BEGIN:VEVENT
DTSTART;TZID=Europe/Amsterdam:20240317T113000
DTEND;TZID=Europe/Amsterdam:20240317T170000
DTSTAMP:20260426T041048
CREATED:20240304T185309Z
LAST-MODIFIED:20240304T185309Z
UID:3062-1710675000-1710694800@av-twenterand.nl
SUMMARY:Halve van Vroomshoop
DESCRIPTION:
URL:https://av-twenterand.nl/event/halve-van-vroomshoop/
LOCATION:Vroomshoop
CATEGORIES:Wedstrijd
END:VEVENT
BEGIN:VEVENT
DTSTART;TZID=Europe/Amsterdam:20240406T093000
DTEND;TZID=Europe/Amsterdam:20240406T103000
DTSTAMP:20260426T041048
CREATED:20240304T185438Z
LAST-MODIFIED:20240304T185438Z
UID:3067-1712395800-1712399400@av-twenterand.nl
SUMMARY:Parkrun
DESCRIPTION:
URL:https://av-twenterand.nl/event/parkrun/
LOCATION:Het Lageveld\, Vriezenveenseweg 57\, Wierden\, Overijssel\, 7641PE\, Nederland
CATEGORIES:Wedstrijd
END:VEVENT
END:VCALENDAR